BEGIN:VCALENDAR
VERSION:2.0
PRODID:-//wp-events-plugin.com//7.2.3.1//EN
TZID:Europe/Paris
X-WR-TIMEZONE:Europe/Paris
BEGIN:VEVENT
UID:15@referet.fr
DTSTART;TZID=Europe/Paris:20120328T200000
DTEND;TZID=Europe/Paris:20120328T200000
DTSTAMP:20230825T134908Z
URL:https://www.referet.fr/conferences/mystery-cases/
SUMMARY:Mystery cases
DESCRIPTION:Le Pr José Sahel\, le Pr Eric Souied et l'ensemble des équipe
 s du Centre de Référence Maladies Rares - Dystrophies rétiniennes et ma
 culaires héréditaires\, seront heureux de vous recevoir à cette confér
 ence.\n\nAu programme :\n\nTous les cas de dystrophies rétiniennes et mac
 ulaires à problème et diagnostics différentiels\n\n 	Cas cliniques et d
 iscussion\n 	Avec la participation de Isabelle Audo\, Salomon-Yves Cohen\,
  Nicolas Leveziel\, Saddek Mohand-Said\, Giuseppe Querques\, Olga Rostaqui
 \, Jennyfer Zerbib\, …\n\nBuffet à 19 h 30\, début à 20 h 00. Renseig
 nements : 01 41 78 42 05.
LOCATION:Centre Hospitalier Intercommunal de Créteil - Auditorium\, bâtim
 ent U\, niveau -1\, 40 avenue de verdun\, Créteil\, 94000\, France
X-APPLE-STRUCTURED-LOCATION;VALUE=URI;X-ADDRESS=40 avenue de verdun\, Crét
 eil\, 94000\, France;X-APPLE-RADIUS=100;X-TITLE=Centre Hospitalier Interco
 mmunal de Créteil - Auditorium\, bâtiment U\, niveau -1:geo:0,0
END:VEVENT
BEGIN:VTIMEZONE
TZID:Europe/Paris
X-LIC-LOCATION:Europe/Paris
BEGIN:DAYLIGHT
DTSTART:20120325T030000
TZOFFSETFROM:+0100
TZOFFSETTO:+0200
TZNAME:CEST
END:DAYLIGHT
END:VTIMEZONE
END:VCALENDAR