BEGIN:VCALENDAR
VERSION:2.0
PRODID:-//wp-events-plugin.com//7.2.3.1//EN
TZID:Europe/Paris
X-WR-TIMEZONE:Europe/Paris
BEGIN:VEVENT
UID:8@referet.fr
DTSTART;TZID=Europe/Paris;VALUE=DATE:20171005
DTEND;TZID=Europe/Paris;VALUE=DATE:20171008
DTSTAMP:20230825T135340Z
URL:https://www.referet.fr/conferences/european-retina-meeting-2024/
SUMMARY:European Retina Meeting 2017
DESCRIPTION:Contact et inscription : emanuela.de-luca@institut-vision.org\
 n\nPour des informations complémentaires\, vous pouvez consulter la page 
 du congrès : http://www.erm2017.eu
LOCATION:Maison Internationale - Cité Internationale Universitaire de Pari
 s\, 17 boulevard Jourdan\, Paris\, 75014\, France
X-APPLE-STRUCTURED-LOCATION;VALUE=URI;X-ADDRESS=17 boulevard Jourdan\, Pari
 s\, 75014\, France;X-APPLE-RADIUS=100;X-TITLE=Maison Internationale - Cit
 é Internationale Universitaire de Paris:geo:0,0
END:VEVENT
BEGIN:VTIMEZONE
TZID:Europe/Paris
X-LIC-LOCATION:Europe/Paris
BEGIN:DAYLIGHT
DTSTART:20170326T030000
TZOFFSETFROM:+0100
TZOFFSETTO:+0200
TZNAME:CEST
END:DAYLIGHT
END:VTIMEZONE
END:VCALENDAR