BEGIN:VCALENDAR
VERSION:2.0
PRODID:-//wp-events-plugin.com//7.2.3.1//EN
TZID:Europe/Paris
X-WR-TIMEZONE:Europe/Paris
BEGIN:VEVENT
UID:10@referet.fr
DTSTART;TZID=Europe/Paris:20150415T200000
DTEND;TZID=Europe/Paris:20150415T200000
DTSTAMP:20230825T135202Z
URL:https://www.referet.fr/conferences/dystrophies-retiniennes-et-maculair
 es-hereditaires-les-basiques/
SUMMARY:Dystrophies rétiniennes et maculaires héréditaires : les basique
 s
DESCRIPTION:Au programme :\n\n 	Les modes de transmissions : Benoit Funalo\
 n 	Les bases de l’interprétation d’un ERG : Olivia Zambrowski\n 	Rét
 inites pigmentaires : Saddek Mohand-Said\n 	Maladie de Stargardt : Éric S
 ouied\n 	Dystrophie des cônes : Élise Boulanger\n 	Dystrophies réticul
 ées : Anne Sikorav\n 	Retinoschisis lié à l’X : Isabelle Audo\n 	EMAP
  : Mayer Srour\n 	Dystrophie maculaire de Best : Giuseppe Querques\n 	Wagn
 er\, Sitkler &amp\; co : Pierre Raphaël Rotschild\n 	Protocoles de recher
 che clinique en cours : José Sahel\n\nBuffet pizza à 19 h 30\, début à
  20 h.
LOCATION:Centre Hospitalier Intercommunal de Créteil - Auditorium\, bâtim
 ent U\, niveau -1\, 40 avenue de verdun\, Créteil\, 94000\, France
X-APPLE-STRUCTURED-LOCATION;VALUE=URI;X-ADDRESS=40 avenue de verdun\, Crét
 eil\, 94000\, France;X-APPLE-RADIUS=100;X-TITLE=Centre Hospitalier Interco
 mmunal de Créteil - Auditorium\, bâtiment U\, niveau -1:geo:0,0
END:VEVENT
BEGIN:VTIMEZONE
TZID:Europe/Paris
X-LIC-LOCATION:Europe/Paris
BEGIN:DAYLIGHT
DTSTART:20150329T030000
TZOFFSETFROM:+0100
TZOFFSETTO:+0200
TZNAME:CEST
END:DAYLIGHT
END:VTIMEZONE
END:VCALENDAR