BEGIN:VCALENDAR
VERSION:2.0
PRODID:-//wp-events-plugin.com//7.2.3.1//EN
TZID:Europe/Paris
X-WR-TIMEZONE:Europe/Paris
BEGIN:VEVENT
UID:4@referet.fr
DTSTART;TZID=Europe/Paris;VALUE=DATE:20171026
DTEND;TZID=Europe/Paris;VALUE=DATE:20171028
DTSTAMP:20230831T131113Z
URL:https://www.referet.fr/conferences/11eme-ri-med-symposium-restoration-
 of-vision/
SUMMARY:11ème Ri.MED Symposium « Restoration of Vision »
DESCRIPTION:Pour des informations complémentaires\, vous pouvez consulter 
 la page du congrès.
LOCATION:Palazzo dell’Informazione\, Piazza Mastai 9\, Rome\, Italie
X-APPLE-STRUCTURED-LOCATION;VALUE=URI;X-ADDRESS=Piazza Mastai 9\, Rome\, It
 alie;X-APPLE-RADIUS=100;X-TITLE=Palazzo dell’Informazione:geo:0,0
END:VEVENT
BEGIN:VTIMEZONE
TZID:Europe/Paris
X-LIC-LOCATION:Europe/Paris
BEGIN:DAYLIGHT
DTSTART:20170326T030000
TZOFFSETFROM:+0100
TZOFFSETTO:+0200
TZNAME:CEST
END:DAYLIGHT
END:VTIMEZONE
END:VCALENDAR